BEGIN:VCALENDAR
VERSION:2.0
PRODID:-//Chuck Jones - ECPv6.15.20//NONSGML v1.0//EN
CALSCALE:GREGORIAN
METHOD:PUBLISH
X-WR-CALNAME:Chuck Jones
X-ORIGINAL-URL:https://chuckjones.com
X-WR-CALDESC:Events for Chuck Jones
REFRESH-INTERVAL;VALUE=DURATION:PT1H
X-Robots-Tag:noindex
X-PUBLISHED-TTL:PT1H
BEGIN:VTIMEZONE
TZID:UTC
BEGIN:STANDARD
TZOFFSETFROM:+0000
TZOFFSETTO:+0000
TZNAME:UTC
DTSTART:20220101T000000
END:STANDARD
END:VTIMEZONE
BEGIN:VEVENT
DTSTART;VALUE=DATE:20231007
DTEND;VALUE=DATE:20231017
DTSTAMP:20260421T021843
CREATED:20230907T175144Z
LAST-MODIFIED:20230907T175211Z
UID:1030640-1696636800-1697500799@chuckjones.com
SUMMARY:Albuquerque International Balloon Fiesta 2023
DESCRIPTION:If you’re in New Mexico\, join us and Ben Olson along with the nonprofit Chuck Jones Center for Creativity for the 2023 Albuquerque International Balloon Fiesta where the sky becomes a canvas of color and dreams take flight! It promises to be an event of colossal proportions. Mark your calendars from October 6 (preview day) through October 15\, for a breathtaking spectacle to remember! \nContact your consultant or email clientservices@chuckjones.com for more information. \nStay tuned for more details coming soon!
URL:https://chuckjones.com/event/albuquerque-international-balloon-fiesta-2023/
LOCATION:Albuquerque International Balloon Fiesta\, 4401 Alameda Blvd NE\, Albuquerque\, NM\, 87113\, United States
CATEGORIES:In-Person Events
ATTACH;FMTTYPE=image/png:https://chuckjones.com/wp-content/uploads/AIBF-Event.png
END:VEVENT
BEGIN:VEVENT
DTSTART;TZID=UTC:20230719T180000
DTEND;TZID=UTC:20230723T170000
DTSTAMP:20260421T021843
CREATED:20230517T184937Z
LAST-MODIFIED:20230720T170935Z
UID:1029385-1689789600-1690131600@chuckjones.com
SUMMARY:Chuck Jones Gallery at SDCC 2023
DESCRIPTION:The Chuck Jones Gallery and the Chuck Jones Center for Creativity\, a 501(c)(3) organization invite Pop Art and Comic-Con enthusiasts from around the world to join us inside the San Diego Convention Center for Comic-Con 2023. \nWhether you are a fan of the legendary Academy Award-winning animator\, Chuck Jones or simply a Comic-Con fan\, this is your chance to take part in Pop Culture\, Comics\, and AR during Comic-Con weekend in beautiful San Diego\, California. \nWe will be located inside the Convention Center at Booth #1815. In addition to the art of Chuck Jones\, the gallery will highlight special appearances and art by Chuck Jones artist\, Ben Olson\, and animation artist\, Dan Bowden. The booth will also feature art from all major animation studios\, including Alan Bodner\, Marvel\, and DC Comics with special appearances by Eric Bauza and Simpsons animator\, Stephen Reis\, along with other exclusive art and appearances. We will also showcase the Acme Labs™ AR experience and their exclusive first-ever transmedia art collection including their new line of Warner Bros. and Hanna-Barbera backgrounds. Follow this Chuck Jones events page for updates and artist line-up times. \nAlso\, the Comic-Con Museum in beautiful Balboa Park is hosting an exclusive Chuck Jones Center for Creativity Big Draw featuring Marvin Martian during Comic-Con weekend on Friday\, July 21 from 2:30 – 4:45 PM. Build your own Martian Maggot paper air rocket\, learn to draw Bugs Bunny\, and enjoy several more interactive creative experiences for the entire family! You don’t want to miss this special Comic Con event! Find the Comic-Con Museum in Balboa Park at 2131 Pan American Plaza\, San Diego\, CA. The nonprofit Chuck Jones Center for Creativity is a 501(c)(3) organization that provides art-based creativity experiences that unleashes the creative genius in people of all ages. \nThe Chuck Jones Gallery will be inside the Convention Center from Thursday through Saturday\, 9:30 AM to 7 PM\, and Sunday 9:30 AM to 5 PM with Preview Night on Wednesday\, July 19 from 6 PM to 9 PM. \nThe San Diego Gallery is located at 1980 Kettner Blvd. San Diego\, CA. \n  \nThe Chuck Jones Gallery Artist Line-Up \nWednesday\, July 19\nChuck Jones artist\, Ben Olson and artist\, Fabio Napoleoni virtually open Comic-Con with NEW exclusive releases and all of our Con weekend news from 5 PM – 6 PM \nWatch the Ben Olson/Fabio Napoleoni Creativside Chat HERE \nMeet & Greet with Animation artist\, Dan Bowden live from 6 PM – 7 PM \nThursday\, July 20\nMeet & Greet with Animation artist\, Dan Bowden live 11 AM – 12 NOON \nMeet & Greet with Simpsons artist\, Stephen Reis live from 4 PM – 5 PM \nFriday\, July 21\nWe’re kicking off with Chuck Jones artist\, Ben Olson before he heads over to the Comic-Con Museum from 10 – Noon \nMeet & Greet artist\, S. Preston ( licensed artist for the MLB\, NHL\, NFL\, NBA\, NCAA\, Star Wars\, Looney Tunes and many more) from 2 PM – 3 PM\n​​​​​​\nChuck Jones Celebration All Day \nComic-Con Museum – exclusive Chuck Jones Center for Creativity Big Draw featuring Marvin Martian from 2:30 PM – 4:45 PM. Find the Comic-Con Museum in Balboa Park at 2131 Pan American Plaza San Diego\, CA. \nSaturday\, July 22 \nMeet & Greet with Craig Kausen\, Chuck Jones’s grandson\, CEO of Chuck Jones Gallery\, and Chairman of the Chuck Jones Center for Creativity\, live from 11 AM – 12 PM \nMeet & Greet with Chuck Jones artist\, Ben Olson live from 4 PM – 5 PM \nSunday\, July 23\nMeet & Greet with Animation artist\, Dan Bowden live from 11 AM – 12 Noon \nAnd … if you ever wondered why the Chuck Jones Gallery is at the San Diego Comic-Con\, WATCH HERE \nComic Con AR Experience QR Code
URL:https://chuckjones.com/event/chuck-jones-gallery-sdcc-2023/
LOCATION:San Diego Convention Center\, 111 Harbor Drive\, San Diego\, CA\, 92101\, United States
CATEGORIES:In-Person Events
ATTACH;FMTTYPE=image/png:https://chuckjones.com/wp-content/uploads/SDCC-2023_FB-Event-Pg.png
ORGANIZER;CN="The Chuck Jones Gallery":MAILTO:clientservices@chuckjones.com
END:VEVENT
BEGIN:VEVENT
DTSTART;TZID=UTC:20230520T150000
DTEND;TZID=UTC:20230520T163000
DTSTAMP:20260421T021843
CREATED:20230519T184251Z
LAST-MODIFIED:20230519T184326Z
UID:1029525-1684594800-1684600200@chuckjones.com
SUMMARY:Meet Willie Ito: Animation Legend from Disney and WB Animated Films & TV
DESCRIPTION:Celebrate classic animation with Willie Ito\, the legend behind iconic cartoons like Jetsons\, Flintstones\, and Scooby-Doo!  \nFrom Willie’s early inspiration of watching Snow White to his time working at Disney\, Warner Bros.\, and Hanna-Barbera\, Ito left an indelible mark on iconic shows like Looney Tunes\, The Jetsons\, The Flintstones\, and Scooby-Doo. Discover his remarkable journey from incarceration during WWII to becoming an award-winning animator. Take advantage of this opportunity to hear from a true animation pioneer. \nLINK on our FB Event page or HERE– Hope you can join us for this exclusive virtual event!
URL:https://chuckjones.com/event/meet-willie-ito-virtual-event/
LOCATION:CA
CATEGORIES:Virtual Events
ATTACH;FMTTYPE=image/jpeg:https://chuckjones.com/wp-content/uploads/xWillie.jpgqitokwbn5k_d3.pagespeed.ic_.2UOD88A-0P.jpg
END:VEVENT
BEGIN:VEVENT
DTSTART;TZID=UTC:20230407T160000
DTEND;TZID=UTC:20230407T190000
DTSTAMP:20260421T021843
CREATED:20230316T210153Z
LAST-MODIFIED:20230404T214026Z
UID:1027418-1680883200-1680894000@chuckjones.com
SUMMARY:Meet Emmy Award-Winning Artist\, Alan Bodner
DESCRIPTION:Please join us at the Chuck Jones Gallery Pop-Up in Palm Desert to meet Emmy Award-Winning Pop Artist\, Alan Bodner in April.\n\nAlan Bodner will release his latest work “Rat Pack at the Copa” (left on banner) and his extraordinary Pop-Surreal originals and limited edition artworks! Dedications are available.\n\nAlan Bodner is an Emmy Award-Winning artist and art director who has distinguished himself during the past 25 years working for Hollywood’s most respected studios on some of the most acclaimed animation projects for numerous studios and production companies\, including the Walt Disney Company\, Warner Bros.\, DreamWorks\, The Cartoon Network\, and Filmation\, to name a few. Mighty Mouse\, The Fat Albert Show\, Heckle & Jeckle\, and Pee Wee’s Playhouse comprise his early credits—followed by Looney Tunes theatrical shorts with Bugs Bunny\, Daffy Duck\, Porky Pig\, and Sylvester & Tweety. \nHis work ranges from some of the world’s most recognized cartoon characters to multidimensional pieces that combine patterns and shapes into unique conceptual presentations. \nThe creative process of Alan Bodner is spontaneous and unpredictable. The vibrant\, theatrical compositions embody a menagerie of original characters\, personalities\, and monsters in surreal\, complex settings. With cultural references to the past\, present\, and his personal vision of the future\, Bodner compounds\, distorts\, and exaggerates for emotional effect—the result consistently friendly and engaging. His fine art is featured in galleries and museums throughout the U.S.—including the Paley Center For Media in Beverly Hills—and ranges from pop surrealism prints to multi-tier geometric assemblage. \n\nDates: Friday\, April 7th\, 4:00 to 7:00 PM AND Saturday\, April 8th\, 12:00 Noon – 2:00 PM\nLocation: Gardens on El Paseo\, Ste 2204 (upstairs by Tommy Bahama Restaurant).\nMore Info: clientservices@chuckjones.com\n\nView the Alan Bodner Collection
URL:https://chuckjones.com/event/meet-emmy-award-winning-artist-alan-bodner/
LOCATION:The Chuck Jones Gallery Pop-Up\, 73375 El Paseo Suite 2204\, Palm Desert\, CA\, 92260\, United States
ATTACH;FMTTYPE=image/jpeg:https://chuckjones.com/wp-content/uploads/Bodner-banner3-1-scaled.jpg
END:VEVENT
BEGIN:VEVENT
DTSTART;VALUE=DATE:20230223
DTEND;VALUE=DATE:20230224
DTSTAMP:20260421T021843
CREATED:20230223T174649Z
LAST-MODIFIED:20230315T202513Z
UID:1026697-1677110400-1677196799@chuckjones.com
SUMMARY:Chuck Jones Virtual Gallery 3.0 Launch!
DESCRIPTION:Beyond the brilliant work of the innovative Chuck Jones\, the Chuck Jones Gallery is also proud to showcase the artwork of many other talented artists and consultants. You can find a list of some of our featured artists on the navigation of our site. There you will see basic information and pictures and a link to dive in deeper and see their artwork that is for sale. Below you will find more information about our brilliant art consultants. \nIf you have any questions\, feel free to reach out. Learn more information about us below!
URL:https://chuckjones.com/event/chuck-jones-virtual-gallery-3-0-launch/
LOCATION:CA
CATEGORIES:Virtual Events
ATTACH;FMTTYPE=image/png:https://chuckjones.com/wp-content/uploads/homepage-pic.png
END:VEVENT
END:VCALENDAR