BEGIN:VCALENDAR
VERSION:2.0
PRODID:-//Chuck Jones - ECPv6.15.20//NONSGML v1.0//EN
CALSCALE:GREGORIAN
METHOD:PUBLISH
X-ORIGINAL-URL:https://chuckjones.com
X-WR-CALDESC:Events for Chuck Jones
REFRESH-INTERVAL;VALUE=DURATION:PT1H
X-Robots-Tag:noindex
X-PUBLISHED-TTL:PT1H
BEGIN:VTIMEZONE
TZID:UTC
BEGIN:STANDARD
TZOFFSETFROM:+0000
TZOFFSETTO:+0000
TZNAME:UTC
DTSTART:20240101T000000
END:STANDARD
END:VTIMEZONE
BEGIN:VEVENT
DTSTART;TZID=UTC:20251004T054500
DTEND;TZID=UTC:20251012T070000
DTSTAMP:20260421T204433
CREATED:20250913T170841Z
LAST-MODIFIED:20250913T170841Z
UID:1033892-1759556700-1760252400@chuckjones.com
SUMMARY:Albuquerque International Balloon Fiesta
DESCRIPTION:Experience the magic of the skies at the Albuquerque International Balloon Fiesta 2025\, the world’s largest and most spectacular ballooning event/ Over nine unforgettable days\, hundreds of hot air balloons will lift off at dawn\, creating a dazzling mosaic of color and light across the New Mexico desert. \nMarvel at the breathtaking mass ascensions\, watch the glow of balloons at night\, and be enchanted by unique and whimsical balloon shapes that inspire wonder for all ages. Beyond the balloons\, the Fiesta offers live music\, cultural events\, food vendors\, and family-friendly activities\, making it a full-day experience for visitors of all ages. \nCelebrated worldwide for its stunning visuals\, joyful atmosphere\, and sense of community\, the Fiesta is more than just an event—it’s a celebration of creativity\, adventure\, and the thrill of flight. Whether you’re a first-time spectator or a lifelong fan\, the Albuquerque Balloon Fiesta promises memories that will lift your spirit as high as the balloons themselves. \n📍 Balloon Fiesta Park\, Albuquerque\, NM📅 Saturday\, October 4 – Sunday\, October 12\, 2025 \nMark your calendar and join the world in Albuquerque this October for a sky full of wonder!
URL:https://chuckjones.com/event/albuquerque-international-balloon-fiesta/
LOCATION:Albuquerque International Balloon Fiesta\, 4401 Alameda Blvd NE\, Albuquerque\, NM\, 87113\, United States
CATEGORIES:In-Person Events
ATTACH;FMTTYPE=image/jpeg:https://chuckjones.com/wp-content/uploads/Balloon-Fiesta-2025.jpg
END:VEVENT
END:VCALENDAR